BEGIN:VCALENDAR
VERSION:2.0
PRODID:-//pretix//fachschaften.org_Tix//
BEGIN:VEVENT
UID:pretix-koma-koma94-0@anmeldung.die-koma.org
DTSTART;VALUE=DATE:20260522
DTEND;VALUE=DATE:20260527
DESCRIPTION:Tickets: https://anmeldung.die-koma.org/koma94/\nVeranstalter: 
 Konferenz der deutschsprachigen Mathematikfachschaften
DTSTAMP:20260421T102814Z
LOCATION:Weststadt-Carré\, Thea-Leymann-Straße 9\, 45127 Essen
SUMMARY:94. Konferenz der deutschsprachigen Mathematikfachschaften in Essen
END:VEVENT
END:VCALENDAR
