BEGIN:VCALENDAR
VERSION:2.0
PRODID:-//pretix//fachschaften.org_Tix//
BEGIN:VEVENT
UID:pretix-koma-koma85-0@anmeldung.die-koma.org
DTSTART;VALUE=DATE:20191030
DTEND;VALUE=DATE:20191104
DESCRIPTION:Tickets: https://anmeldung.die-koma.org/koma85/\nVeranstalter: 
 Konferenz der deutschsprachigen Mathematikfachschaften
DTSTAMP:20260422T185831Z
SUMMARY:KoMa 85
END:VEVENT
END:VCALENDAR
